{ "currentVersion": 11.3, "cimVersion": "3.3.0", "serviceDescription": "
Basemap_Ortho2022_Legal<\/SPAN><\/P><\/DIV><\/DIV>",
"mapName": "Layers",
"description": " Basemap_Ortho2022_Legal<\/SPAN><\/P><\/DIV><\/DIV>",
"copyrightText": "",
"supportsDynamicLayers": true,
"layers": [
{
"id": 0,
"name": "Cadastral",
"parentLayerId": -1,
"defaultVisibility": true,
"subLayerIds": null,
"minScale": 5000,
"maxScale": 0,
"type": "Feature Layer",
"geometryType": "esriGeometryPolygon",
"supportsDynamicLegends": true
},
{
"id": 1,
"name": "MunicipalBoundary",
"parentLayerId": -1,
"defaultVisibility": true,
"subLayerIds": null,
"minScale": 5000,
"maxScale": 0,
"type": "Feature Layer",
"geometryType": "esriGeometryPolygon",
"supportsDynamicLegends": true
},
{
"id": 2,
"name": "MunicipalBoundary",
"parentLayerId": -1,
"defaultVisibility": true,
"subLayerIds": null,
"minScale": 0,
"maxScale": 5001,
"type": "Feature Layer",
"geometryType": "esriGeometryPolygon",
"supportsDynamicLegends": true
},
{
"id": 3,
"name": "1:250",
"parentLayerId": -1,
"defaultVisibility": true,
"subLayerIds": [
4
],
"minScale": 250,
"maxScale": 0,
"type": "Group Layer",
"supportsDynamicLegends": false
},
{
"id": 4,
"name": "Address1000",
"parentLayerId": 3,
"defaultVisibility": true,
"subLayerIds": [
5,
6
],
"minScale": 0,
"maxScale": 0,
"type": "Annotation Layer",
"geometryType": "esriGeometryPolygon",
"supportsDynamicLegends": false
},
{
"id": 5,
"name": "Default",
"parentLayerId": 4,
"defaultVisibility": false,
"subLayerIds": null,
"minScale": 0,
"maxScale": 0,
"supportsDynamicLegends": false
},
{
"id": 6,
"name": "Halo",
"parentLayerId": 4,
"defaultVisibility": true,
"subLayerIds": null,
"minScale": 0,
"maxScale": 0,
"supportsDynamicLegends": false
},
{
"id": 7,
"name": "1:500",
"parentLayerId": -1,
"defaultVisibility": true,
"subLayerIds": [
8
],
"minScale": 500,
"maxScale": 251,
"type": "Group Layer",
"supportsDynamicLegends": false
},
{
"id": 8,
"name": "Address1000",
"parentLayerId": 7,
"defaultVisibility": true,
"subLayerIds": [
9,
10
],
"minScale": 0,
"maxScale": 0,
"type": "Annotation Layer",
"geometryType": "esriGeometryPolygon",
"supportsDynamicLegends": false
},
{
"id": 9,
"name": "Default",
"parentLayerId": 8,
"defaultVisibility": false,
"subLayerIds": null,
"minScale": 0,
"maxScale": 0,
"supportsDynamicLegends": false
},
{
"id": 10,
"name": "Halo",
"parentLayerId": 8,
"defaultVisibility": true,
"subLayerIds": null,
"minScale": 0,
"maxScale": 0,
"supportsDynamicLegends": false
},
{
"id": 11,
"name": "1:1000",
"parentLayerId": -1,
"defaultVisibility": true,
"subLayerIds": [
12
],
"minScale": 1000,
"maxScale": 501,
"type": "Group Layer",
"supportsDynamicLegends": false
},
{
"id": 12,
"name": "Address1000",
"parentLayerId": 11,
"defaultVisibility": true,
"subLayerIds": [
13,
14
],
"minScale": 0,
"maxScale": 0,
"type": "Annotation Layer",
"geometryType": "esriGeometryPolygon",
"supportsDynamicLegends": false
},
{
"id": 13,
"name": "Default",
"parentLayerId": 12,
"defaultVisibility": false,
"subLayerIds": null,
"minScale": 0,
"maxScale": 0,
"supportsDynamicLegends": false
},
{
"id": 14,
"name": "Halo",
"parentLayerId": 12,
"defaultVisibility": true,
"subLayerIds": null,
"minScale": 0,
"maxScale": 0,
"supportsDynamicLegends": false
},
{
"id": 15,
"name": "1:2000",
"parentLayerId": -1,
"defaultVisibility": true,
"subLayerIds": [
16
],
"minScale": 2000,
"maxScale": 1001,
"type": "Group Layer",
"supportsDynamicLegends": false
},
{
"id": 16,
"name": "Address2000",
"parentLayerId": 15,
"defaultVisibility": true,
"subLayerIds": [
17,
18
],
"minScale": 0,
"maxScale": 0,
"type": "Annotation Layer",
"geometryType": "esriGeometryPolygon",
"supportsDynamicLegends": false
},
{
"id": 17,
"name": "Default",
"parentLayerId": 16,
"defaultVisibility": false,
"subLayerIds": null,
"minScale": 0,
"maxScale": 0,
"supportsDynamicLegends": false
},
{
"id": 18,
"name": "Halo",
"parentLayerId": 16,
"defaultVisibility": true,
"subLayerIds": null,
"minScale": 0,
"maxScale": 0,
"supportsDynamicLegends": false
},
{
"id": 19,
"name": "Orthos",
"parentLayerId": -1,
"defaultVisibility": true,
"subLayerIds": [
29
],
"minScale": 0,
"maxScale": 0,
"type": "Group Layer",
"supportsDynamicLegends": false
},
{
"id": 29,
"name": "2023ColorMosaic.tif",
"parentLayerId": 19,
"defaultVisibility": true,
"subLayerIds": null,
"minScale": 0,
"maxScale": 0,
"type": "Raster Layer",
"supportsDynamicLegends": true
}
],
"tables": [],
"spatialReference": {
"wkid": 26910,
"latestWkid": 26910,
"xyTolerance": 0.001,
"zTolerance": 2,
"mTolerance": 0.001,
"falseX": -5120900,
"falseY": -9998100,
"xyUnits": 4.504455473910538E8,
"falseZ": 0,
"zUnits": 1,
"falseM": -100000,
"mUnits": 10000
},
"singleFusedMapCache": true,
"tileInfo": {
"rows": 256,
"cols": 256,
"dpi": 96,
"format": "PNG24",
"compressionQuality": 0,
"origin": {
"x": -5120900,
"y": 9998100
},
"spatialReference": {
"wkid": 26910,
"latestWkid": 26910,
"xyTolerance": 0.001,
"zTolerance": 2,
"mTolerance": 0.001,
"falseX": -5120900,
"falseY": -9998100,
"xyUnits": 4.504455473910538E8,
"falseZ": 0,
"zUnits": 1,
"falseM": -100000,
"mUnits": 10000
},
"lods": [
{
"level": 0,
"resolution": 10.583354500042335,
"scale": 40000
},
{
"level": 1,
"resolution": 5.291677250021167,
"scale": 20000
},
{
"level": 2,
"resolution": 2.6458386250105836,
"scale": 10000
},
{
"level": 3,
"resolution": 1.9843789687579376,
"scale": 7500
},
{
"level": 4,
"resolution": 1.3229193125052918,
"scale": 5000
},
{
"level": 5,
"resolution": 0.9260435187537043,
"scale": 3500
},
{
"level": 6,
"resolution": 0.5291677250021167,
"scale": 2000
},
{
"level": 7,
"resolution": 0.26458386250105836,
"scale": 1000
},
{
"level": 8,
"resolution": 0.13229193125052918,
"scale": 500
},
{
"level": 9,
"resolution": 0.06614596562526459,
"scale": 250
}
]
},
"storageInfo": {
"storageFormat": "esriMapCacheStorageModeCompactV2",
"packetSize": 128
},
"initialExtent": {
"xmin": 516096.75985524507,
"ymin": 5456251.581316451,
"xmax": 516309.6055076031,
"ymax": 5456430.397674084,
"spatialReference": {
"wkid": 26910,
"latestWkid": 26910,
"xyTolerance": 0.001,
"zTolerance": 2,
"mTolerance": 0.001,
"falseX": -5120900,
"falseY": -9998100,
"xyUnits": 4.504455473910538E8,
"falseZ": 0,
"zUnits": 1,
"falseM": -100000,
"mUnits": 10000
}
},
"fullExtent": {
"xmin": 511333.0199712261,
"ymin": 5450654.5976022305,
"xmax": 523345.1273287742,
"ymax": 5460169.033297769,
"spatialReference": {
"wkid": 26910,
"latestWkid": 26910,
"xyTolerance": 0.001,
"zTolerance": 2,
"mTolerance": 0.001,
"falseX": -5120900,
"falseY": -9998100,
"xyUnits": 4.504455473910538E8,
"falseZ": 0,
"zUnits": 1,
"falseM": -100000,
"mUnits": 10000
}
},
"datesInUnknownTimezone": false,
"minScale": 40000,
"maxScale": 250,
"minLOD": 0,
"maxLOD": 9,
"units": "esriMeters",
"supportedImageFormatTypes": "PNG32,PNG24,PNG,JPG,DIB,TIFF,EMF,PS,PDF,GIF,SVG,SVGZ,BMP",
"documentInfo": {
"Title": "Basemap_Ortho2022_Legal",
"Author": "",
"Comments": " Basemap_Ortho2022_Legal<\/SPAN><\/P><\/DIV><\/DIV>",
"Subject": "Basemap_Ortho2022_Legal",
"Category": "",
"Version": "2.9.0",
"AntialiasingMode": "Fast",
"TextAntialiasingMode": "Force",
"Keywords": "Basemap_Ortho2023_Legal"
},
"supportsQueryDomains": true,
"capabilities": "Map,Query,Data",
"supportedQueryFormats": "JSON, geoJSON, PBF",
"exportTilesAllowed": false,
"referenceScale": 0.0,
"supportsDatumTransformation": true,
"floorAwareMapProperties": {
"defaultFloorFilterSettings": {"isEnabled": false}
},
"archivingInfo": {"supportsHistoricMoment": false},
"supportsClipping": true,
"supportsSpatialFilter": true,
"supportsTimeRelation": true,
"supportsQueryDataElements": true,
"mapUnits": {"uwkid": 9001},
"maxRecordCount": 2000,
"maxImageHeight": 4096,
"maxImageWidth": 4096,
"supportedExtensions": "",
"resampling": false,
"serviceItemId": "00f9b1bee2394e1cbc10f20e75553dd2"
}