{
 "documentInfo": {
  "Category": "",
  "Keywords": "Basemap_Ortho2025",
  "Version": "3.3.0",
  "Comments": "Basemap_Ortho2022",
  "AntialiasingMode": "Fast",
  "Title": "Basemap_Ortho2022",
  "Author": "",
  "TextAntialiasingMode": "Force",
  "Subject": "Basemap_Ortho2022"
 },
 "maxImageWidth": 4096,
 "wmtsScaleFactor": 0.00028000000000003521,
 "maxRecordCount": 2000,
 "tileInfo": {
  "lods": [
   {
    "level": 0,
    "scale": 40000,
    "resolution": 10.583354500042335
   },
   {
    "level": 1,
    "scale": 20000,
    "resolution": 5.2916772500211673
   },
   {
    "level": 2,
    "scale": 10000,
    "resolution": 2.6458386250105836
   },
   {
    "level": 3,
    "scale": 7500,
    "resolution": 1.9843789687579376
   },
   {
    "level": 4,
    "scale": 5000,
    "resolution": 1.3229193125052918
   },
   {
    "level": 5,
    "scale": 3500,
    "resolution": 0.92604351875370428
   },
   {
    "level": 6,
    "scale": 2000,
    "resolution": 0.52916772500211673
   },
   {
    "level": 7,
    "scale": 1000,
    "resolution": 0.26458386250105836
   },
   {
    "level": 8,
    "scale": 500,
    "resolution": 0.13229193125052918
   },
   {
    "level": 9,
    "scale": 250,
    "resolution": 0.066145965625264591
   }
  ],
  "origin": {
   "x": -5120900,
   "y": 9998100
  },
  "format": "PNG24",
  "compressionQuality": 0,
  "rows": 256,
  "dpi": 96,
  "spatialReference": {
   "falseM": -100000,
   "xyTolerance": 0.001,
   "mUnits": 10000,
   "zUnits": 1,
   "latestWkid": 26910,
   "zTolerance": 2,
   "wkid": 26910,
   "xyUnits": 450445547.3910538,
   "mTolerance": 0.001,
   "falseX": -5120900,
   "falseY": -9998100,
   "falseZ": 0
  },
  "cols": 256
 },
 "description": "Basemap_Ortho2022",
 "datesInUnknownTimezone": false,
 "supportsQueryDomains": true,
 "units": "esriMeters",
 "maxSelectionCount": 2000,
 "supportedImageFormatTypes": "PNG32,PNG24,PNG,JPG,DIB,TIFF,EMF,PS,PDF,GIF,SVG,SVGZ,BMP",
 "supportsClipping": true,
 "exportTilesAllowed": false,
 "maxImageHeight": 4096,
 "tables": [],
 "hasVersionedData": false,
 "supportsDatumTransformation": true,
 "cimVersion": "3.7.0",
 "supportsQueryDataElements": true,
 "layers": [
  {
   "subLayerIds": null,
   "maxScale": 0,
   "name": "Ortho2025_WhiteBlocks",
   "defaultVisibility": true,
   "id": 1,
   "minScale": 0,
   "supportsDynamicLegends": true,
   "type": "Feature Layer",
   "parentLayerId": -1,
   "geometryType": "esriGeometryPolygon"
  },
  {
   "subLayerIds": null,
   "maxScale": 0,
   "name": "MunicipalBoundary",
   "defaultVisibility": true,
   "id": 0,
   "minScale": 0,
   "supportsDynamicLegends": true,
   "type": "Feature Layer",
   "parentLayerId": -1,
   "geometryType": "esriGeometryPolygon"
  },
  {
   "subLayerIds": [
    20
   ],
   "maxScale": 0,
   "name": "Orthos",
   "defaultVisibility": true,
   "id": 19,
   "minScale": 0,
   "supportsDynamicLegends": false,
   "type": "Group Layer",
   "parentLayerId": -1
  },
  {
   "subLayerIds": null,
   "maxScale": 0,
   "name": "2025ColorMosaic.tif",
   "defaultVisibility": true,
   "id": 20,
   "minScale": 0,
   "supportsDynamicLegends": true,
   "type": "Raster Layer",
   "parentLayerId": 19
  }
 ],
 "mapName": "Layers",
 "minScale": 40000,
 "archivingInfo": {
  "supportsHistoricMoment": false
 },
 "spatialReference": {
  "falseM": -100000,
  "xyTolerance": 0.001,
  "mUnits": 10000,
  "zUnits": 1,
  "latestWkid": 26910,
  "zTolerance": 2,
  "wkid": 26910,
  "xyUnits": 450445547.3910538,
  "mTolerance": 0.001,
  "falseX": -5120900,
  "falseY": -9998100,
  "falseZ": 0
 },
 "tileImageInfo": {
  "bandCount": 1,
  "lercError": 0,
  "format": "PNG24",
  "compressionQuality": 0
 },
 "fullExtent": {
  "ymin": 5450654.5976022305,
  "xmin": 511333.01997122611,
  "ymax": 5460169.0332977688,
  "xmax": 523345.12732877419,
  "spatialReference": {
   "falseM": -100000,
   "xyTolerance": 0.001,
   "mUnits": 10000,
   "zUnits": 1,
   "latestWkid": 26910,
   "zTolerance": 2,
   "wkid": 26910,
   "xyUnits": 450445547.3910538,
   "mTolerance": 0.001,
   "falseX": -5120900,
   "falseY": -9998100,
   "falseZ": 0
  }
 },
 "supportedExtensions": "",
 "serviceItemId": "3d729ecbd1b34fc28712bdd5d01e7a7c",
 "capabilities": "Map,Query,Data",
 "supportsDynamicLayers": true,
 "maxScale": 250,
 "singleFusedMapCache": true,
 "currentVersion": 12.1,
 "storageInfo": {
  "storageFormat": "esriMapCacheStorageModeCompactV2",
  "packetSize": 128
 },
 "hasBranchVersionedData": false,
 "mapUnits": {
  "uwkid": 9001
 },
 "referenceScale": 0,
 "floorAwareMapProperties": {
  "defaultFloorFilterSettings": {
   "isEnabled": false
  }
 },
 "supportsSpatialFilter": true,
 "supportedQueryFormats": "JSON, geoJSON, PBF",
 "datumTransformations": [
  {
   "geoTransforms": [
    {
     "latestWkid": 1946,
     "transformForward": true,
     "wkid": 1946,
     "name": "NAD_1983_CSRS_To_WGS_1984_2"
    },
    {
     "latestWkid": 108190,
     "transformForward": true,
     "wkid": 108190,
     "name": "WGS_1984_(ITRF00)_To_NAD_1983"
    }
   ]
  },
  {
   "geoTransforms": [
    {
     "latestWkid": 108190,
     "transformForward": false,
     "wkid": 108190,
     "name": "WGS_1984_(ITRF00)_To_NAD_1983"
    },
    {
     "latestWkid": 1946,
     "transformForward": false,
     "wkid": 1946,
     "name": "NAD_1983_CSRS_To_WGS_1984_2"
    }
   ]
  }
 ],
 "initialExtent": {
  "ymin": 5448309.6849359935,
  "xmin": 510108.32187471632,
  "ymax": 5462513.9459640058,
  "xmax": 524569.82542528398,
  "spatialReference": {
   "falseM": -100000,
   "xyTolerance": 0.001,
   "mUnits": 10000,
   "zUnits": 1,
   "latestWkid": 26910,
   "zTolerance": 2,
   "wkid": 26910,
   "xyUnits": 450445547.3910538,
   "mTolerance": 0.001,
   "falseX": -5120900,
   "falseY": -9998100,
   "falseZ": 0
  }
 },
 "serviceDescription": " Basemap_Ortho2022<\/span><\/p><\/div><\/div><\/div>",
 "copyrightText": "",
 "supportsTimeRelation": true
}
