{
 "documentInfo": {
  "Category": "",
  "Keywords": "Basemap_Ortho2025_Cemetery",
  "Version": "3.3.0",
  "Comments": "Basemap_Ortho2022",
  "AntialiasingMode": "Fast",
  "Title": "Basemap_Ortho2022",
  "Author": "",
  "TextAntialiasingMode": "Force",
  "Subject": "Basemap_Ortho2022"
 },
 "maxImageWidth": 4096,
 "wmtsScaleFactor": 0.00028000000000003521,
 "maxRecordCount": 2000,
 "tileInfo": {
  "lods": [
   {
    "level": 0,
    "scale": 750,
    "resolution": 0.19843789687579377
   },
   {
    "level": 1,
    "scale": 650,
    "resolution": 0.17197951062568792
   },
   {
    "level": 2,
    "scale": 550,
    "resolution": 0.14552112437558209
   },
   {
    "level": 3,
    "scale": 450,
    "resolution": 0.11906273812547626
   },
   {
    "level": 4,
    "scale": 350,
    "resolution": 0.092604351875370416
   },
   {
    "level": 5,
    "scale": 250,
    "resolution": 0.066145965625264591
   },
   {
    "level": 6,
    "scale": 150,
    "resolution": 0.039687579375158752
   },
   {
    "level": 7,
    "scale": 100,
    "resolution": 0.026458386250105836
   },
   {
    "level": 8,
    "scale": 50,
    "resolution": 0.013229193125052918
   },
   {
    "level": 9,
    "scale": 25,
    "resolution": 0.0066145965625264589
   }
  ],
  "origin": {
   "x": -5120900,
   "y": 9998100
  },
  "format": "PNG24",
  "compressionQuality": 0,
  "rows": 256,
  "dpi": 96,
  "spatialReference": {
   "falseM": -100000,
   "xyTolerance": 0.001,
   "mUnits": 10000,
   "zUnits": 1,
   "latestWkid": 26910,
   "zTolerance": 2,
   "wkid": 26910,
   "xyUnits": 450445547.3910538,
   "mTolerance": 0.001,
   "falseX": -5120900,
   "falseY": -9998100,
   "falseZ": 0
  },
  "cols": 256
 },
 "description": "Basemap_Ortho2022",
 "datesInUnknownTimezone": false,
 "supportsQueryDomains": true,
 "units": "esriMeters",
 "maxSelectionCount": 2000,
 "supportedImageFormatTypes": "PNG32,PNG24,PNG,JPG,DIB,TIFF,EMF,PS,PDF,GIF,SVG,SVGZ,BMP",
 "supportsClipping": true,
 "exportTilesAllowed": false,
 "maxImageHeight": 4096,
 "tables": [],
 "hasVersionedData": false,
 "supportsDatumTransformation": true,
 "cimVersion": "3.7.0",
 "supportsQueryDataElements": true,
 "layers": [
  {
   "subLayerIds": null,
   "maxScale": 0,
   "name": "MunicipalBoundary",
   "defaultVisibility": true,
   "id": 0,
   "minScale": 0,
   "supportsDynamicLegends": true,
   "type": "Feature Layer",
   "parentLayerId": -1,
   "geometryType": "esriGeometryPolygon"
  },
  {
   "subLayerIds": null,
   "maxScale": 0,
   "name": "516000_5458500.tif",
   "defaultVisibility": true,
   "id": 2,
   "minScale": 0,
   "supportsDynamicLegends": true,
   "type": "Raster Layer",
   "parentLayerId": -1
  }
 ],
 "mapName": "Layers",
 "minScale": 750,
 "archivingInfo": {
  "supportsHistoricMoment": false
 },
 "spatialReference": {
  "falseM": -100000,
  "xyTolerance": 0.001,
  "mUnits": 10000,
  "zUnits": 1,
  "latestWkid": 26910,
  "zTolerance": 2,
  "wkid": 26910,
  "xyUnits": 450445547.3910538,
  "mTolerance": 0.001,
  "falseX": -5120900,
  "falseY": -9998100,
  "falseZ": 0
 },
 "tileImageInfo": {
  "bandCount": 1,
  "lercError": 0,
  "format": "PNG24",
  "compressionQuality": 0
 },
 "fullExtent": {
  "ymin": 5450654.5976022305,
  "xmin": 511333.01997122611,
  "ymax": 5460169.0332977688,
  "xmax": 523345.12732877419,
  "spatialReference": {
   "falseM": -100000,
   "xyTolerance": 0.001,
   "mUnits": 10000,
   "zUnits": 1,
   "latestWkid": 26910,
   "zTolerance": 2,
   "wkid": 26910,
   "xyUnits": 450445547.3910538,
   "mTolerance": 0.001,
   "falseX": -5120900,
   "falseY": -9998100,
   "falseZ": 0
  }
 },
 "supportedExtensions": "",
 "serviceItemId": "26ce1104b94a4f828a87487b282b20ff",
 "capabilities": "Map,Query,Data",
 "supportsDynamicLayers": true,
 "maxScale": 25,
 "singleFusedMapCache": true,
 "currentVersion": 12.1,
 "storageInfo": {
  "storageFormat": "esriMapCacheStorageModeCompactV2",
  "packetSize": 128
 },
 "resampling": false,
 "hasBranchVersionedData": false,
 "mapUnits": {
  "uwkid": 9001
 },
 "referenceScale": 0,
 "floorAwareMapProperties": {
  "defaultFloorFilterSettings": {
   "isEnabled": false
  }
 },
 "supportsSpatialFilter": true,
 "maxLOD": 9,
 "minLOD": 0,
 "supportedQueryFormats": "JSON, geoJSON, PBF",
 "datumTransformations": [
  {
   "geoTransforms": [
    {
     "latestWkid": 1946,
     "transformForward": true,
     "wkid": 1946,
     "name": "NAD_1983_CSRS_To_WGS_1984_2"
    },
    {
     "latestWkid": 108190,
     "transformForward": true,
     "wkid": 108190,
     "name": "WGS_1984_(ITRF00)_To_NAD_1983"
    }
   ]
  },
  {
   "geoTransforms": [
    {
     "latestWkid": 108190,
     "transformForward": false,
     "wkid": 108190,
     "name": "WGS_1984_(ITRF00)_To_NAD_1983"
    },
    {
     "latestWkid": 1946,
     "transformForward": false,
     "wkid": 1946,
     "name": "NAD_1983_CSRS_To_WGS_1984_2"
    }
   ]
  },
  {
   "geoTransforms": [
    {
     "latestWkid": 108190,
     "transformForward": true,
     "wkid": 108190,
     "name": "WGS_1984_(ITRF00)_To_NAD_1983"
    }
   ]
  },
  {
   "geoTransforms": [
    {
     "latestWkid": 108190,
     "transformForward": false,
     "wkid": 108190,
     "name": "WGS_1984_(ITRF00)_To_NAD_1983"
    }
   ]
  }
 ],
 "initialExtent": {
  "ymin": 5459167.4475208335,
  "xmin": 516866.74258533592,
  "ymax": 5459438.2238019053,
  "xmax": 517276.71842338523,
  "spatialReference": {
   "falseM": -100000,
   "xyTolerance": 0.001,
   "mUnits": 10000,
   "zUnits": 1,
   "latestWkid": 26910,
   "zTolerance": 2,
   "wkid": 26910,
   "xyUnits": 450445547.3910538,
   "mTolerance": 0.001,
   "falseX": -5120900,
   "falseY": -9998100,
   "falseZ": 0
  }
 },
 "serviceDescription": " Basemap_Ortho2022<\/span><\/p><\/div><\/div><\/div>",
 "copyrightText": "",
 "supportsTimeRelation": true
}
