{
 "documentInfo": {
  "Category": "",
  "Keywords": "Basemap_Ortho2025_Legal",
  "Version": "3.3.0",
  "Comments": "Basemap_Ortho2022_Legal",
  "AntialiasingMode": "Fast",
  "Title": "Basemap_Ortho2022_Legal",
  "Author": "",
  "TextAntialiasingMode": "Force",
  "Subject": "Basemap_Ortho2022_Legal"
 },
 "maxImageWidth": 4096,
 "wmtsScaleFactor": 0.00028000000000003521,
 "maxRecordCount": 2000,
 "tileInfo": {
  "lods": [
   {
    "level": 0,
    "scale": 40000,
    "resolution": 10.583354500042335
   },
   {
    "level": 1,
    "scale": 20000,
    "resolution": 5.2916772500211673
   },
   {
    "level": 2,
    "scale": 10000,
    "resolution": 2.6458386250105836
   },
   {
    "level": 3,
    "scale": 7500,
    "resolution": 1.9843789687579376
   },
   {
    "level": 4,
    "scale": 5000,
    "resolution": 1.3229193125052918
   },
   {
    "level": 5,
    "scale": 3500,
    "resolution": 0.92604351875370428
   },
   {
    "level": 6,
    "scale": 2000,
    "resolution": 0.52916772500211673
   },
   {
    "level": 7,
    "scale": 1000,
    "resolution": 0.26458386250105836
   },
   {
    "level": 8,
    "scale": 500,
    "resolution": 0.13229193125052918
   },
   {
    "level": 9,
    "scale": 250,
    "resolution": 0.066145965625264591
   }
  ],
  "origin": {
   "x": -5120900,
   "y": 9998100
  },
  "format": "PNG24",
  "compressionQuality": 0,
  "rows": 256,
  "dpi": 96,
  "spatialReference": {
   "falseM": -100000,
   "xyTolerance": 0.001,
   "mUnits": 10000,
   "zUnits": 1,
   "latestWkid": 26910,
   "zTolerance": 2,
   "wkid": 26910,
   "xyUnits": 450445547.3910538,
   "mTolerance": 0.001,
   "falseX": -5120900,
   "falseY": -9998100,
   "falseZ": 0
  },
  "cols": 256
 },
 "description": "Basemap_Ortho2025_Legal",
 "datesInUnknownTimezone": false,
 "supportsQueryDomains": true,
 "units": "esriMeters",
 "maxSelectionCount": 2000,
 "supportedImageFormatTypes": "PNG32,PNG24,PNG,JPG,DIB,TIFF,EMF,PS,PDF,GIF,SVG,SVGZ,BMP",
 "supportsClipping": true,
 "exportTilesAllowed": false,
 "maxImageHeight": 4096,
 "tables": [],
 "hasVersionedData": false,
 "supportsDatumTransformation": true,
 "cimVersion": "3.7.0",
 "supportsQueryDataElements": true,
 "layers": [
  {
   "subLayerIds": null,
   "maxScale": 0,
   "name": "Cadastral",
   "defaultVisibility": true,
   "id": 0,
   "minScale": 5000,
   "supportsDynamicLegends": true,
   "type": "Feature Layer",
   "parentLayerId": -1,
   "geometryType": "esriGeometryPolygon"
  },
  {
   "subLayerIds": null,
   "maxScale": 0,
   "name": "MunicipalBoundary",
   "defaultVisibility": true,
   "id": 1,
   "minScale": 5000,
   "supportsDynamicLegends": true,
   "type": "Feature Layer",
   "parentLayerId": -1,
   "geometryType": "esriGeometryPolygon"
  },
  {
   "subLayerIds": null,
   "maxScale": 5001,
   "name": "MunicipalBoundary",
   "defaultVisibility": true,
   "id": 2,
   "minScale": 0,
   "supportsDynamicLegends": true,
   "type": "Feature Layer",
   "parentLayerId": -1,
   "geometryType": "esriGeometryPolygon"
  },
  {
   "subLayerIds": [
    4
   ],
   "maxScale": 0,
   "name": "1:250",
   "defaultVisibility": true,
   "id": 3,
   "minScale": 250,
   "supportsDynamicLegends": false,
   "type": "Group Layer",
   "parentLayerId": -1
  },
  {
   "subLayerIds": [
    5,
    6
   ],
   "maxScale": 0,
   "name": "Address1000",
   "defaultVisibility": true,
   "id": 4,
   "minScale": 0,
   "supportsDynamicLegends": false,
   "type": "Annotation Layer",
   "parentLayerId": 3,
   "geometryType": "esriGeometryPolygon"
  },
  {
   "subLayerIds": null,
   "maxScale": 0,
   "name": "Default",
   "defaultVisibility": false,
   "id": 5,
   "minScale": 0,
   "supportsDynamicLegends": false,
   "parentLayerId": 4
  },
  {
   "subLayerIds": null,
   "maxScale": 0,
   "name": "Halo",
   "defaultVisibility": true,
   "id": 6,
   "minScale": 0,
   "supportsDynamicLegends": false,
   "parentLayerId": 4
  },
  {
   "subLayerIds": [
    8
   ],
   "maxScale": 251,
   "name": "1:500",
   "defaultVisibility": true,
   "id": 7,
   "minScale": 500,
   "supportsDynamicLegends": false,
   "type": "Group Layer",
   "parentLayerId": -1
  },
  {
   "subLayerIds": [
    9,
    10
   ],
   "maxScale": 0,
   "name": "Address1000",
   "defaultVisibility": true,
   "id": 8,
   "minScale": 0,
   "supportsDynamicLegends": false,
   "type": "Annotation Layer",
   "parentLayerId": 7,
   "geometryType": "esriGeometryPolygon"
  },
  {
   "subLayerIds": null,
   "maxScale": 0,
   "name": "Default",
   "defaultVisibility": false,
   "id": 9,
   "minScale": 0,
   "supportsDynamicLegends": false,
   "parentLayerId": 8
  },
  {
   "subLayerIds": null,
   "maxScale": 0,
   "name": "Halo",
   "defaultVisibility": true,
   "id": 10,
   "minScale": 0,
   "supportsDynamicLegends": false,
   "parentLayerId": 8
  },
  {
   "subLayerIds": [
    12
   ],
   "maxScale": 501,
   "name": "1:1000",
   "defaultVisibility": true,
   "id": 11,
   "minScale": 1000,
   "supportsDynamicLegends": false,
   "type": "Group Layer",
   "parentLayerId": -1
  },
  {
   "subLayerIds": [
    13,
    14
   ],
   "maxScale": 0,
   "name": "Address1000",
   "defaultVisibility": true,
   "id": 12,
   "minScale": 0,
   "supportsDynamicLegends": false,
   "type": "Annotation Layer",
   "parentLayerId": 11,
   "geometryType": "esriGeometryPolygon"
  },
  {
   "subLayerIds": null,
   "maxScale": 0,
   "name": "Default",
   "defaultVisibility": false,
   "id": 13,
   "minScale": 0,
   "supportsDynamicLegends": false,
   "parentLayerId": 12
  },
  {
   "subLayerIds": null,
   "maxScale": 0,
   "name": "Halo",
   "defaultVisibility": true,
   "id": 14,
   "minScale": 0,
   "supportsDynamicLegends": false,
   "parentLayerId": 12
  },
  {
   "subLayerIds": [
    16
   ],
   "maxScale": 1001,
   "name": "1:2000",
   "defaultVisibility": true,
   "id": 15,
   "minScale": 2000,
   "supportsDynamicLegends": false,
   "type": "Group Layer",
   "parentLayerId": -1
  },
  {
   "subLayerIds": [
    17,
    18
   ],
   "maxScale": 0,
   "name": "Address2000",
   "defaultVisibility": true,
   "id": 16,
   "minScale": 0,
   "supportsDynamicLegends": false,
   "type": "Annotation Layer",
   "parentLayerId": 15,
   "geometryType": "esriGeometryPolygon"
  },
  {
   "subLayerIds": null,
   "maxScale": 0,
   "name": "Default",
   "defaultVisibility": false,
   "id": 17,
   "minScale": 0,
   "supportsDynamicLegends": false,
   "parentLayerId": 16
  },
  {
   "subLayerIds": null,
   "maxScale": 0,
   "name": "Halo",
   "defaultVisibility": true,
   "id": 18,
   "minScale": 0,
   "supportsDynamicLegends": false,
   "parentLayerId": 16
  },
  {
   "subLayerIds": null,
   "maxScale": 0,
   "name": "Ortho2025_WhiteBlocks",
   "defaultVisibility": true,
   "id": 22,
   "minScale": 0,
   "supportsDynamicLegends": true,
   "type": "Feature Layer",
   "parentLayerId": -1,
   "geometryType": "esriGeometryPolygon"
  },
  {
   "subLayerIds": [
    20
   ],
   "maxScale": 0,
   "name": "Orthos",
   "defaultVisibility": true,
   "id": 19,
   "minScale": 0,
   "supportsDynamicLegends": false,
   "type": "Group Layer",
   "parentLayerId": -1
  },
  {
   "subLayerIds": null,
   "maxScale": 0,
   "name": "2025ColorMosaic.tif",
   "defaultVisibility": true,
   "id": 20,
   "minScale": 0,
   "supportsDynamicLegends": true,
   "type": "Raster Layer",
   "parentLayerId": 19
  }
 ],
 "mapName": "Layers",
 "minScale": 40000,
 "archivingInfo": {
  "supportsHistoricMoment": false
 },
 "spatialReference": {
  "falseM": -100000,
  "xyTolerance": 0.001,
  "mUnits": 10000,
  "zUnits": 1,
  "latestWkid": 26910,
  "zTolerance": 2,
  "wkid": 26910,
  "xyUnits": 450445547.3910538,
  "mTolerance": 0.001,
  "falseX": -5120900,
  "falseY": -9998100,
  "falseZ": 0
 },
 "tileImageInfo": {
  "bandCount": 1,
  "lercError": 0,
  "format": "PNG24",
  "compressionQuality": 0
 },
 "fullExtent": {
  "ymin": 5450654.5976022305,
  "xmin": 511333.01997122611,
  "ymax": 5460169.0332977688,
  "xmax": 523345.12732877419,
  "spatialReference": {
   "falseM": -100000,
   "xyTolerance": 0.001,
   "mUnits": 10000,
   "zUnits": 1,
   "latestWkid": 26910,
   "zTolerance": 2,
   "wkid": 26910,
   "xyUnits": 450445547.3910538,
   "mTolerance": 0.001,
   "falseX": -5120900,
   "falseY": -9998100,
   "falseZ": 0
  }
 },
 "supportedExtensions": "",
 "serviceItemId": "626180e12f674c42a82ed605dfd43974",
 "capabilities": "Map,Query,Data,Tilemap",
 "supportsDynamicLayers": true,
 "maxScale": 250,
 "singleFusedMapCache": true,
 "currentVersion": 12.1,
 "storageInfo": {
  "storageFormat": "esriMapCacheStorageModeCompactV2",
  "packetSize": 128
 },
 "resampling": false,
 "hasBranchVersionedData": false,
 "mapUnits": {
  "uwkid": 9001
 },
 "referenceScale": 0,
 "floorAwareMapProperties": {
  "defaultFloorFilterSettings": {
   "isEnabled": false
  }
 },
 "supportsSpatialFilter": true,
 "maxLOD": 9,
 "supportedQueryFormats": "JSON, geoJSON, PBF",
 "datumTransformations": [
  {
   "geoTransforms": [
    {
     "latestWkid": 1946,
     "transformForward": true,
     "wkid": 1946,
     "name": "NAD_1983_CSRS_To_WGS_1984_2"
    },
    {
     "latestWkid": 108190,
     "transformForward": true,
     "wkid": 108190,
     "name": "WGS_1984_(ITRF00)_To_NAD_1983"
    }
   ]
  },
  {
   "geoTransforms": [
    {
     "latestWkid": 108190,
     "transformForward": false,
     "wkid": 108190,
     "name": "WGS_1984_(ITRF00)_To_NAD_1983"
    },
    {
     "latestWkid": 1946,
     "transformForward": false,
     "wkid": 1946,
     "name": "NAD_1983_CSRS_To_WGS_1984_2"
    }
   ]
  }
 ],
 "initialExtent": {
  "ymin": 5450654.5976022305,
  "xmin": 510829.19659515814,
  "ymax": 5460169.0332977688,
  "xmax": 523848.95070484217,
  "spatialReference": {
   "falseM": -100000,
   "xyTolerance": 0.001,
   "mUnits": 10000,
   "zUnits": 1,
   "latestWkid": 26910,
   "zTolerance": 2,
   "wkid": 26910,
   "xyUnits": 450445547.3910538,
   "mTolerance": 0.001,
   "falseX": -5120900,
   "falseY": -9998100,
   "falseZ": 0
  }
 },
 "serviceDescription": "Basemap_Ortho2025_Legal",
 "copyrightText": "",
 "supportsTimeRelation": true
}
