{
 "documentInfo": {
  "Category": "",
  "Keywords": "Basemap Streetnames",
  "Version": "3.3.0",
  "Comments": "Basemap Streetnames",
  "AntialiasingMode": "Fast",
  "Title": "Basemap Streetnames",
  "Author": "",
  "TextAntialiasingMode": "Force",
  "Subject": "Basemap Streetnames"
 },
 "maxImageWidth": 4096,
 "wmtsScaleFactor": 0.00028000000000003521,
 "maxRecordCount": 2000,
 "tileInfo": {
  "lods": [
   {
    "level": 0,
    "scale": 40000,
    "resolution": 10.583354500042335
   },
   {
    "level": 1,
    "scale": 20000,
    "resolution": 5.2916772500211673
   },
   {
    "level": 2,
    "scale": 10000,
    "resolution": 2.6458386250105836
   },
   {
    "level": 3,
    "scale": 7500,
    "resolution": 1.9843789687579376
   },
   {
    "level": 4,
    "scale": 5000,
    "resolution": 1.3229193125052918
   },
   {
    "level": 5,
    "scale": 3500,
    "resolution": 0.92604351875370428
   },
   {
    "level": 6,
    "scale": 2000,
    "resolution": 0.52916772500211673
   },
   {
    "level": 7,
    "scale": 1000,
    "resolution": 0.26458386250105836
   },
   {
    "level": 8,
    "scale": 500,
    "resolution": 0.13229193125052918
   },
   {
    "level": 9,
    "scale": 250,
    "resolution": 0.066145965625264591
   }
  ],
  "origin": {
   "x": -5120900,
   "y": 9998100
  },
  "format": "PNG24",
  "compressionQuality": 0,
  "rows": 256,
  "dpi": 96,
  "spatialReference": {
   "falseM": -100000,
   "xyTolerance": 0.001,
   "mUnits": 10000,
   "zUnits": 1,
   "latestWkid": 26910,
   "zTolerance": 2,
   "wkid": 26910,
   "xyUnits": 450445547.3910538,
   "mTolerance": 0.001,
   "falseX": -5120900,
   "falseY": -9998100,
   "falseZ": 0
  },
  "cols": 256
 },
 "description": "Basemap Streetnames",
 "datesInUnknownTimezone": false,
 "supportsQueryDomains": true,
 "units": "esriMeters",
 "maxSelectionCount": 2000,
 "supportedImageFormatTypes": "PNG32,PNG24,PNG,JPG,DIB,TIFF,EMF,PS,PDF,GIF,SVG,SVGZ,BMP",
 "supportsClipping": true,
 "exportTilesAllowed": false,
 "maxImageHeight": 4096,
 "tables": [],
 "hasVersionedData": false,
 "supportsDatumTransformation": true,
 "cimVersion": "3.7.0",
 "supportsQueryDataElements": true,
 "layers": [
  {
   "subLayerIds": [
    1
   ],
   "maxScale": 0,
   "name": "1:250",
   "defaultVisibility": true,
   "id": 0,
   "minScale": 250,
   "supportsDynamicLegends": false,
   "type": "Group Layer",
   "parentLayerId": -1
  },
  {
   "subLayerIds": null,
   "maxScale": 0,
   "name": "StreetCentreline Labels",
   "defaultVisibility": true,
   "id": 1,
   "minScale": 0,
   "supportsDynamicLegends": true,
   "type": "Feature Layer",
   "parentLayerId": 0,
   "geometryType": "esriGeometryPolyline"
  },
  {
   "subLayerIds": [
    3
   ],
   "maxScale": 251,
   "name": "1:500",
   "defaultVisibility": true,
   "id": 2,
   "minScale": 500,
   "supportsDynamicLegends": false,
   "type": "Group Layer",
   "parentLayerId": -1
  },
  {
   "subLayerIds": null,
   "maxScale": 0,
   "name": "StreetCentreline Labels",
   "defaultVisibility": true,
   "id": 3,
   "minScale": 0,
   "supportsDynamicLegends": true,
   "type": "Feature Layer",
   "parentLayerId": 2,
   "geometryType": "esriGeometryPolyline"
  },
  {
   "subLayerIds": [
    5
   ],
   "maxScale": 501,
   "name": "1:1000",
   "defaultVisibility": true,
   "id": 4,
   "minScale": 1000,
   "supportsDynamicLegends": false,
   "type": "Group Layer",
   "parentLayerId": -1
  },
  {
   "subLayerIds": null,
   "maxScale": 0,
   "name": "StreetCentreline Labels",
   "defaultVisibility": true,
   "id": 5,
   "minScale": 0,
   "supportsDynamicLegends": true,
   "type": "Feature Layer",
   "parentLayerId": 4,
   "geometryType": "esriGeometryPolyline"
  },
  {
   "subLayerIds": [
    7
   ],
   "maxScale": 1001,
   "name": "1:2000",
   "defaultVisibility": true,
   "id": 6,
   "minScale": 2000,
   "supportsDynamicLegends": false,
   "type": "Group Layer",
   "parentLayerId": -1
  },
  {
   "subLayerIds": null,
   "maxScale": 0,
   "name": "StreetCentreline Labels",
   "defaultVisibility": true,
   "id": 7,
   "minScale": 0,
   "supportsDynamicLegends": true,
   "type": "Feature Layer",
   "parentLayerId": 6,
   "geometryType": "esriGeometryPolyline"
  },
  {
   "subLayerIds": [
    9
   ],
   "maxScale": 2001,
   "name": "1:3500 to 1:5000",
   "defaultVisibility": true,
   "id": 8,
   "minScale": 5000,
   "supportsDynamicLegends": false,
   "type": "Group Layer",
   "parentLayerId": -1
  },
  {
   "subLayerIds": null,
   "maxScale": 0,
   "name": "StreetCentreline Labels",
   "defaultVisibility": true,
   "id": 9,
   "minScale": 0,
   "supportsDynamicLegends": true,
   "type": "Feature Layer",
   "parentLayerId": 8,
   "geometryType": "esriGeometryPolyline"
  },
  {
   "subLayerIds": [
    11
   ],
   "maxScale": 5001,
   "name": "1:10000 to 1:20000",
   "defaultVisibility": true,
   "id": 10,
   "minScale": 20000,
   "supportsDynamicLegends": false,
   "type": "Group Layer",
   "parentLayerId": -1
  },
  {
   "subLayerIds": null,
   "maxScale": 0,
   "name": "StreetCentreline Labels",
   "defaultVisibility": true,
   "id": 11,
   "minScale": 0,
   "supportsDynamicLegends": true,
   "type": "Feature Layer",
   "parentLayerId": 10,
   "geometryType": "esriGeometryPolyline"
  },
  {
   "subLayerIds": [
    13
   ],
   "maxScale": 20001,
   "name": "1:40000",
   "defaultVisibility": true,
   "id": 12,
   "minScale": 50000,
   "supportsDynamicLegends": false,
   "type": "Group Layer",
   "parentLayerId": -1
  },
  {
   "subLayerIds": null,
   "maxScale": 0,
   "name": "StreetCentreline Labels",
   "defaultVisibility": true,
   "id": 13,
   "minScale": 0,
   "supportsDynamicLegends": true,
   "type": "Feature Layer",
   "parentLayerId": 12,
   "geometryType": "esriGeometryPolyline"
  }
 ],
 "mapName": "Layers",
 "minScale": 40000,
 "archivingInfo": {
  "supportsHistoricMoment": false
 },
 "spatialReference": {
  "falseM": -100000,
  "xyTolerance": 0.001,
  "mUnits": 10000,
  "zUnits": 1,
  "latestWkid": 26910,
  "zTolerance": 2,
  "wkid": 26910,
  "xyUnits": 450445547.3910538,
  "mTolerance": 0.001,
  "falseX": -5120900,
  "falseY": -9998100,
  "falseZ": 0
 },
 "tileImageInfo": {
  "bandCount": 1,
  "lercError": 0,
  "format": "PNG24",
  "compressionQuality": 0
 },
 "fullExtent": {
  "ymin": 5450654.5976022305,
  "xmin": 511333.01997122611,
  "ymax": 5460169.0332977688,
  "xmax": 523345.12732877419,
  "spatialReference": {
   "falseM": -100000,
   "xyTolerance": 0.001,
   "mUnits": 10000,
   "zUnits": 1,
   "latestWkid": 26910,
   "zTolerance": 2,
   "wkid": 26910,
   "xyUnits": 450445547.3910538,
   "mTolerance": 0.001,
   "falseX": -5120900,
   "falseY": -9998100,
   "falseZ": 0
  }
 },
 "supportedExtensions": "",
 "serviceItemId": "6dbf695b037e40f5bbf459006ee07c99",
 "capabilities": "Map,Query,Data",
 "supportsDynamicLayers": true,
 "maxScale": 250,
 "singleFusedMapCache": true,
 "currentVersion": 12.1,
 "storageInfo": {
  "storageFormat": "esriMapCacheStorageModeCompactV2",
  "packetSize": 128
 },
 "resampling": false,
 "hasBranchVersionedData": false,
 "mapUnits": {
  "uwkid": 9001
 },
 "referenceScale": 0,
 "floorAwareMapProperties": {
  "defaultFloorFilterSettings": {
   "isEnabled": false
  }
 },
 "supportsSpatialFilter": true,
 "maxLOD": 9,
 "minLOD": 0,
 "supportedQueryFormats": "JSON, geoJSON, PBF",
 "initialExtent": {
  "ymin": 5450654.5976022305,
  "xmin": 510211.49638906511,
  "ymax": 5460169.0332977688,
  "xmax": 524466.65091093525,
  "spatialReference": {
   "falseM": -100000,
   "xyTolerance": 0.001,
   "mUnits": 10000,
   "zUnits": 1,
   "latestWkid": 26910,
   "zTolerance": 2,
   "wkid": 26910,
   "xyUnits": 450445547.3910538,
   "mTolerance": 0.001,
   "falseX": -5120900,
   "falseY": -9998100,
   "falseZ": 0
  }
 },
 "serviceDescription": "Basemap Streetnames",
 "copyrightText": "",
 "supportsTimeRelation": true
}
